BEGIN:VCALENDAR
VERSION:2.0
PRODID:Events Booking
BEGIN:VEVENT
UID:69ed1db8c2919
SUMMARY:Sailing in Lake Zürich
DESCRIPTION:Relaxed sailing in Lake Zürich.
 Boat: J70 (Argos)&nbsp\;
 C
 HF 20 / person&nbsp\;
 &nbsp\;
LOCATION:Zurich\, Zurich\, Switzerland
DTSTART:20240810T140000Z
DTEND:20240810T160000Z
DTSTAMP:20240807T190803Z
ORGANIZER;CN=ZISC Events:MAILTO:info@zisc.club
GEO:47.359643;8.534907
X-APPLE-STRUCTURED-LOCATION;VALUE=URI;X-ADDRESS=Zurich\, Zurich\, Switzerla
 nd;X-APPLE-RADIUS=72;X-TITLE=Zürich - Mythenquai:47.359643;8.534907
END:VEVENT
END:VCALENDAR