BEGIN:VCALENDAR
VERSION:2.0
PRODID:Events Booking
BEGIN:VEVENT
UID:69ed204a8c430
SUMMARY:ZISC Sail&Swim 
DESCRIPTION:Sailing on a Surprise 22\, from Thalwil.
 There might be wind\
 , therefore we could sail\, but if not .. then\, it will be sunny and warm
  enough to swim.
LOCATION:Portofino
DTSTART:20240825T163000Z
DTEND:20240825T183000Z
DTSTAMP:20240824T121836Z
ORGANIZER;CN=ZISC Events:MAILTO:info@zisc.club
END:VEVENT
END:VCALENDAR