BEGIN:VCALENDAR
VERSION:2.0
PRODID:Events Booking
BEGIN:VEVENT
UID:69ed1a4c0c18a
SUMMARY:Evening Sail
DESCRIPTION:Classic evening sail on lake Zurich.&nbsp\;
DTSTART:20240909T170000Z
DTEND:20240909T190000Z
DTSTAMP:20240902T202409Z
ORGANIZER;CN=ZISC Events:MAILTO:info@zisc.club
END:VEVENT
END:VCALENDAR