BEGIN:VCALENDAR
VERSION:2.0
PRODID:Events Booking
BEGIN:VEVENT
UID:69ed1bb3805f8
SUMMARY:Evening Sail
DESCRIPTION:
 Classic evening sail on lake Zurich.&nbsp\;
 
DTSTART:20240923T170000Z
DTEND:20240923T190000Z
DTSTAMP:20240902T202949Z
ORGANIZER;CN=ZISC Events:MAILTO:info@zisc.club
END:VEVENT
END:VCALENDAR