BEGIN:VCALENDAR
VERSION:2.0
PRODID:Events Booking
BEGIN:VEVENT
UID:69ed1c1d46349
SUMMARY:Neuchâtel Lake Sailing
DESCRIPTION:Sail on&nbsp\;the largest lake located entirely in Switzerland&
 nbsp\;starting from the port of La Tène campsite which is at the eastern 
 end of Lake Neuchâtel lake.
LOCATION:Chemin de la Tène\, Marin-Epagnier\, La Tène\, Neuchâtel\, 2074
 \, Switzerland
DTSTART:20240922T120000Z
DTEND:20240922T160000Z
DTSTAMP:20240908T084805Z
ORGANIZER;CN=ZISC Events:MAILTO:info@zisc.club
GEO:47.004259;7.020822
X-APPLE-STRUCTURED-LOCATION;VALUE=URI;X-ADDRESS=Chemin de la Tène\, Marin-
 Epagnier\, La Tène\, Neuchâtel\, 2074\, Switzerland;X-APPLE-RADIUS=72;X-
 TITLE=La Tène\, Neuchâtel:47.004259;7.020822
END:VEVENT
END:VCALENDAR