BEGIN:VCALENDAR
VERSION:2.0
PRODID:Events Booking
BEGIN:VEVENT
UID:69ed267f771f1
SUMMARY:ZISC Summer BBQ
DESCRIPTION:ZISC annual summer BBQ
DTSTART:20250810T180000Z
DTEND:20250810T230000Z
DTSTAMP:20231122T123402Z
ORGANIZER;CN=ZISC Events:MAILTO:info@zisc.club
END:VEVENT
END:VCALENDAR