BEGIN:VCALENDAR
VERSION:2.0
PRODID:Events Booking
BEGIN:VEVENT
UID:69ed13aae98ac
SUMMARY:Round the Island race\, offshore UK
DESCRIPTION:Round the Island Race. Iconic race around the isle of Wight UK\
 , the course of the very first America’s Cup race. See details for more 
 info.
LOCATION:Satchel Lane\, Hamble\, SO31 4QD England\, United Kingdom
DTSTART:20250605T090000Z
DTEND:20250608T180000Z
DTSTAMP:20241202T075828Z
ORGANIZER;CN=ZISC Events:MAILTO:info@zisc.club
GEO:50.861338;-1.313641
X-APPLE-STRUCTURED-LOCATION;VALUE=URI;X-ADDRESS=Satchel Lane\, Hamble\, SO3
 1 4QD England\, United Kingdom;X-APPLE-RADIUS=72;X-TITLE=Port Hamble Marin
 a:50.861338;-1.313641
END:VEVENT
END:VCALENDAR