BEGIN:VCALENDAR
VERSION:2.0
PRODID:Events Booking
BEGIN:VEVENT
UID:69ed13539a935
SUMMARY:SSL Promotion League\, Act 1
DESCRIPTION:Swiss Sailing - Promotion League in Lausanne.
LOCATION:Quai de la Nautique\, Lausanne\, 1007 Vaud\, Switzerland
DTSTART:20250510T090000Z
DTEND:20250511T170000Z
DTSTAMP:20231122T122650Z
ORGANIZER;CN=ZISC Events:MAILTO:info@zisc.club
GEO:46.507395;6.623722
X-APPLE-STRUCTURED-LOCATION;VALUE=URI;X-ADDRESS=Quai de la Nautique\, Lausa
 nne\, 1007 Vaud\, Switzerland;X-APPLE-RADIUS=72;X-TITLE=Lausanne Ouchy :46
 .507395;6.623722
END:VEVENT
END:VCALENDAR