BEGIN:VCALENDAR
VERSION:2.0
PRODID:Events Booking
BEGIN:VEVENT
UID:69ed1353c8066
SUMMARY:SSL Promotion League\, Act 3
DESCRIPTION:Swiss Sailing - Promotion League in Prangins\, Lac Leman.&nbsp\
 ;
LOCATION:1197 Vaud\, Switzerland
DTSTART:20250926T090000Z
DTEND:20250928T170000Z
DTSTAMP:20231122T122935Z
ORGANIZER;CN=ZISC Events:MAILTO:info@zisc.club
GEO:46.394798;6.248787
X-APPLE-STRUCTURED-LOCATION;VALUE=URI;X-ADDRESS=1197 Vaud\, Switzerland;X-A
 PPLE-RADIUS=72;X-TITLE=Prangins:46.394798;6.248787
END:VEVENT
END:VCALENDAR