BEGIN:VCALENDAR
VERSION:2.0
PRODID:Events Booking
BEGIN:VEVENT
UID:69ecff2250132
SUMMARY:SSL Wind Camp Brunnen
DESCRIPTION:SSL Wind Camp in Brunnen
DTSTART:20250702T090000Z
DTEND:20250704T170000Z
DTSTAMP:20241202T225719Z
ORGANIZER;CN=ZISC Events:MAILTO:info@zisc.club
END:VEVENT
END:VCALENDAR