BEGIN:VCALENDAR
VERSION:2.0
PRODID:Events Booking
BEGIN:VEVENT
UID:69ed2681a3c15
SUMMARY:Venice - the Carnival 
DESCRIPTION:The plan is to take\, on Thursday\, a brand new (2024) Jeanneau
  41 from Caorle and sail it into Venice (some 30nn due west). The marina i
 s a little gem on San Giorgio island. Then\, the plan for the next couple 
 of days is: no plan. There are events\, expositions\, shows... we ll see w
 hat sounds best. Just bring your costume and dive in the crowd.&nbsp\;
 S
 aturday night we are invited to join the Compagnia della Vela in their Car
 nival Party in their stunning club house.&nbsp\;
 Sunday at sunrise we ll
  say goodbye to Venice and sail back to Caorle.&nbsp\;Transport-wise I ll 
 catch a train from Zurich to Caorle but\, I know there s a reasonably pric
 ed flight from Swiss.&nbsp\;
 Regarding the sleeping arrangements: there 
 are 3 cabins in this owner-layout. So the master cabin will be assigned af
 ter the usual duel with pistols (provided by the charter). The servants wi
 ll need to share cabins so please\, a little flexibility.&nbsp\;WhatsApp m
 e for details.&nbsp\;
 Cheers\, Dario&nbsp\;
LOCATION:Isola di San Giorgio Maggiore\, Venice\, 30124 Veneto\, Italy
DTSTART:20250227T000000Z
DTEND:20250302T000000Z
DTSTAMP:20250123T102740Z
ORGANIZER;CN=ZISC Events:MAILTO:info@zisc.club
GEO:45.429027;12.34495
X-APPLE-STRUCTURED-LOCATION;VALUE=URI;X-ADDRESS=Isola di San Giorgio Maggio
 re\, Venice\, 30124 Veneto\, Italy;X-APPLE-RADIUS=72;X-TITLE=Venezia :45.4
 29027;12.34495
END:VEVENT
END:VCALENDAR