BEGIN:VCALENDAR
VERSION:2.0
PRODID:Events Booking
BEGIN:VEVENT
UID:69ecec4874d00
SUMMARY:Navigation Theory
DESCRIPTION:Navigation theory session. More practice than theory\, the actu
 al passage plan for our May Cross Channel trip. 
 
 We are doing two eve
 nings\, both the same\, 10th and 17th March.
 Ideal for anyone thinking a
 bout doing RYA Coastal / Offshore Skipper (this is often the passage RYA a
 sks you to prepare). Equally useful for other skipper courses.
 Or for an
 yone generally interested in coastal / offshore navigation.
 Read the det
 ailed description so you know what its about!
LOCATION:Hegifret Kaffeefenster\, Hegibachplatz\, Hirslanden\, Kreis 7\, Zu
 rich\, District Zurich\, Zurich\, 8032\, Switzerland
DTSTART:20250310T190500Z
DTEND:20250310T210000Z
DTSTAMP:20250214T104327Z
ORGANIZER;CN=ZISC Events:MAILTO:info@zisc.club
GEO:47.361778;8.561204
X-APPLE-STRUCTURED-LOCATION;VALUE=URI;X-ADDRESS=Hegifret Kaffeefenster\, He
 gibachplatz\, Hirslanden\, Kreis 7\, Zurich\, District Zurich\, Zurich\, 8
 032\, Switzerland;X-APPLE-RADIUS=72;X-TITLE=Hegifret:47.361778;8.561204
END:VEVENT
END:VCALENDAR