BEGIN:VCALENDAR
VERSION:2.0
PRODID:Events Booking
BEGIN:VEVENT
UID:69ed1bc263a59
SUMMARY:TGIF Sailing 
DESCRIPTION:Tomorrow There s probably gonna be more sun than wind... noneth
 eless there s only one way to actually find out :)&nbsp\;
 best Dario
LOCATION:Polytechniker Ruderclub (PRC)\, 67\, Mythenquai\, Enge\, Kreis 2\,
  Zurich\, District Zurich\, Zurich\, 8002\, Switzerland
DTSTART:20250411T173000Z
DTSTAMP:20250410T080734Z
ORGANIZER;CN=ZISC Events:MAILTO:info@zisc.club
GEO:47.35781;8.53584
X-APPLE-STRUCTURED-LOCATION;VALUE=URI;X-ADDRESS=Polytechniker Ruderclub (PR
 C)\, 67\, Mythenquai\, Enge\, Kreis 2\, Zurich\, District Zurich\, Zurich\
 , 8002\, Switzerland;X-APPLE-RADIUS=72;X-TITLE=Hafen Enge / Samigo:47.3578
 1;8.53584
END:VEVENT
END:VCALENDAR