BEGIN:VCALENDAR
VERSION:2.0
PRODID:Events Booking
BEGIN:VEVENT
UID:69ecff2192b23
SUMMARY:VHF Radio Course
DESCRIPTION:VHF Radio Course
LOCATION:Gemeinschaftszentrum Höngg\, 214\, Limmattalstrasse\, Höngg\, Kr
 eis 10\, Zurich\, District Zurich\, Zurich\, 8049\, Switzerland
DTSTART:20250524T090000Z
DTEND:20250524T180000Z
DTSTAMP:20250415T114023Z
ORGANIZER;CN=ZISC Events:MAILTO:info@zisc.club
GEO:47.402227;8.497292
X-APPLE-STRUCTURED-LOCATION;VALUE=URI;X-ADDRESS=Gemeinschaftszentrum Höngg
 \, 214\, Limmattalstrasse\, Höngg\, Kreis 10\, Zurich\, District Zurich\,
  Zurich\, 8049\, Switzerland;X-APPLE-RADIUS=72;X-TITLE=GZ Höngg:47.402227
 ;8.497292
END:VEVENT
END:VCALENDAR