BEGIN:VCALENDAR
VERSION:2.0
PRODID:Events Booking
BEGIN:VEVENT
UID:69ed13bc34cd0
SUMMARY:Schoggi Cup - Lake Zürich 
DESCRIPTION:Schoggi Cup - Lake Zürich&nbsp\;
 ZISC is pleased to invite y
 ou to participate at the prestigious&nbsp\;Schoggi Cup.&nbsp\;
 &nbsp\;
LOCATION:Kilchberg\, 8802 Zurich\, Switzerland
DTSTART:20250517T110000Z
DTEND:20250517T170000Z
DTSTAMP:20250421T165625Z
ORGANIZER;CN=ZISC Events:MAILTO:info@zisc.club
GEO:47.319031;8.553306
X-APPLE-STRUCTURED-LOCATION;VALUE=URI;X-ADDRESS=Kilchberg\, 8802 Zurich\, S
 witzerland;X-APPLE-RADIUS=72;X-TITLE=kilchgerg sailing club:47.319031;8.55
 3306
END:VEVENT
END:VCALENDAR