BEGIN:VCALENDAR
VERSION:2.0
PRODID:Events Booking
BEGIN:VEVENT
UID:69ed26d137a36
SUMMARY:Generalversammlung / AGM 2025
DESCRIPTION:Notice of Generalversammlung / Annual General Meeting 2025
 Me
 mber exclusive | Free welcome drink&nbsp\;
 The ZISC Generalversammlung /
  Annual General Meeting is being held at GZ Wollishofen. The lakeside venu
 e is perfect for our sailing club annual meeting.
 Come along\, vote and 
 support the next phase of ZISC\, as the club continues to grow.&nbsp\;This
  is your chance to hear more about how the club is evolving and to provide
  your input. &nbsp\;
 We will keep the usual GV/AGM activities as short a
 s possible and then continue with our usual Weekly Thursday Social.
 Regi
 ster here so we know who is attending (allows us to better plan the supply
  with drinks and snacks).
 We hope to see you all there!&nbsp\;
 &nbsp\;
LOCATION:Bachstrasse 7\, Zurich\, 8038 Zurich\, Switzerland
DTSTART:20250522T183000Z
DTEND:20250522T220000Z
DTSTAMP:20250428T112428Z
ORGANIZER;CN=ZISC Events:MAILTO:info@zisc.club
GEO:47.344733;8.535623
X-APPLE-STRUCTURED-LOCATION;VALUE=URI;X-ADDRESS=Bachstrasse 7\, Zurich\, 80
 38 Zurich\, Switzerland;X-APPLE-RADIUS=72;X-TITLE=GZ Wollishofen :47.34473
 3;8.535623
END:VEVENT
END:VCALENDAR