BEGIN:VCALENDAR
VERSION:2.0
PRODID:Events Booking
BEGIN:VEVENT
UID:69ed26d00846c
SUMMARY:SailGP in Geneva
DESCRIPTION:Sail-GP is for the first time coming to Switzerland.
 Basicall
 y\, 12 foiling catamarans of 50 feet battling at unbelievable speed.The pl
 an is: who wants to join me and Michele on Friday and help the transfer on
  of the 2 boats from Lausanne to Geneva is most welcome.&nbsp\;Meeting eve
 ryone in Geneva on Saturday and watch the race. Party in Geneva in the eve
 ning.&nbsp\;Sunday\, watch the racing and\, for the volunteers\, transfer 
 back the boat to Lausanne.&nbsp\;
 Accomodations are to be arranged indiv
 idually\, but some berths are available on the two boats. Just get in touc
 h.&nbsp\;Costs will be split among us.&nbsp\;best\, Dario&nbsp\;
LOCATION:Quai de Cologny 1
DTSTART:20250920T100000Z
DTEND:20250921T150000Z
DTSTAMP:20250503T062509Z
ORGANIZER;CN=ZISC Events:MAILTO:info@zisc.club
GEO:0;6.169928
X-APPLE-STRUCTURED-LOCATION;VALUE=URI;X-ADDRESS=Quai de Cologny 1;X-APPLE-R
 ADIUS=72;X-TITLE=Geneva :0;6.169928
END:VEVENT
END:VCALENDAR