BEGIN:VCALENDAR
VERSION:2.0
PRODID:Events Booking
BEGIN:VEVENT
UID:69ed1354319ce
SUMMARY:Zurich Enge Sailing 
DESCRIPTION:
LOCATION:Mythenquai 21\, 8002 Zürich
DTSTART:20250510T165000Z
DTEND:20250510T191000Z
DTSTAMP:20250507T115851Z
ORGANIZER;CN=ZISC Events:MAILTO:info@zisc.club
GEO:0;8.536908
X-APPLE-STRUCTURED-LOCATION;VALUE=URI;X-ADDRESS=Mythenquai 21\, 8002 Züric
 h;X-APPLE-RADIUS=72;X-TITLE=zurich enge:0;8.536908
END:VEVENT
END:VCALENDAR