BEGIN:VCALENDAR
VERSION:2.0
PRODID:Events Booking
BEGIN:VEVENT
UID:69ed13fce85ad
SUMMARY:Swiss Sailing Challenge League Women ACT II/2025 Davos
DESCRIPTION:Swiss Sailing Challenge League Women Act II/2025 Davos
LOCATION:Klosters Dorf\, 7250 Grisons\, Switzerland
DTSTART:20250829T090000Z
DTEND:20250831T170000Z
DTSTAMP:20250509T151221Z
ORGANIZER;CN=ZISC Events:MAILTO:info@zisc.club
GEO:46.854957;9.879132
X-APPLE-STRUCTURED-LOCATION;VALUE=URI;X-ADDRESS=Klosters Dorf\, 7250 Grison
 s\, Switzerland;X-APPLE-RADIUS=72;X-TITLE=Davos:46.854957;9.879132
END:VEVENT
END:VCALENDAR