BEGIN:VCALENDAR
VERSION:2.0
PRODID:Events Booking
BEGIN:VEVENT
UID:69ed26dd946c8
SUMMARY:2025 ZISC Fund Raising (Lake Zürich)
DESCRIPTION:ZISC is pleased to introduce:
 2025 FUNDRAISING EVENT\, suppor
 ting
 JUST for SMILES FOUNDATION!&nbsp\;
 Just for Smiles foundation’s
  aim is to develop a network of outdoor activities and tailored to each se
 ason\, to provide adapted enjoyment for people with disabilities.
 Additi
 onal info can be found at www.justforsmiles.ch
 Please be numerous (and g
 enerous!) - every donation\, even the smallest one\, counts! &nbsp\;
 Ple
 ase secure your spot by registering to the event - and bring friends/famil
 y!
 Additional spots might be added accordingly to demand.&nbsp\;
 &nbsp
 \;
DTSTART:20250719T123000Z
DTEND:20250719T150000Z
DTSTAMP:20250512T104352Z
ORGANIZER;CN=ZISC Events:MAILTO:info@zisc.club
END:VEVENT
END:VCALENDAR