BEGIN:VCALENDAR
VERSION:2.0
PRODID:Events Booking
BEGIN:VEVENT
UID:69ed13ab5579d
SUMMARY:ZLC - Auffahrtsregatta SCPf (Act. 2)
DESCRIPTION:&nbsp\;Welcome everyone to the second event of the&nbsp\;series
  \"Distance Races Cup of Lake Zurich\"!
 See details for more information
 !
 &nbsp\;
LOCATION:Rathausweg 16\, 8806 Pfäffikon SZ
DTSTART:20250529T100000Z
DTEND:20250529T170000Z
DTSTAMP:20250520T123158Z
ORGANIZER;CN=ZISC Events:MAILTO:info@zisc.club
GEO:47.289381;8.603777
X-APPLE-STRUCTURED-LOCATION;VALUE=URI;X-ADDRESS=Rathausweg 16\, 8806 Pfäff
 ikon SZ;X-APPLE-RADIUS=72;X-TITLE=Pfäffikon SZ:47.289381;8.603777
END:VEVENT
END:VCALENDAR