BEGIN:VCALENDAR
VERSION:2.0
PRODID:Events Booking
BEGIN:VEVENT
UID:69ecfeb69fbf3
SUMMARY:RYA Day Skipper
DESCRIPTION:ZISC RYA Day Skipper Course
LOCATION:Satchel Lane\, Hamble\, SO31 4QD England\, United Kingdom
DTSTART:20251012T190000Z
DTEND:20251017T160000Z
DTSTAMP:20250610T193020Z
ORGANIZER;CN=ZISC Events:MAILTO:info@zisc.club
GEO:50.861338;-1.313641
X-APPLE-STRUCTURED-LOCATION;VALUE=URI;X-ADDRESS=Satchel Lane\, Hamble\, SO3
 1 4QD England\, United Kingdom;X-APPLE-RADIUS=72;X-TITLE=Port Hamble Marin
 a:50.861338;-1.313641
END:VEVENT
END:VCALENDAR