BEGIN:VCALENDAR
VERSION:2.0
PRODID:Events Booking
BEGIN:VEVENT
UID:69ed1fdd1142b
SUMMARY:Sunset sailing
DESCRIPTION:Let's go sailing till the sunset on Zurisee!&nbsp\;&nbsp\;Easy 
 and chilled sailing also for unexperienced people.
 &nbsp\;
LOCATION:Mythenquai\, Zurich\, 8002 Zurich\, Switzerland
DTSTART:20250619T183000Z
DTEND:20250619T210000Z
DTSTAMP:20250613T080640Z
ORGANIZER;CN=ZISC Events:MAILTO:info@zisc.club
END:VEVENT
END:VCALENDAR