BEGIN:VCALENDAR
VERSION:2.0
PRODID:Events Booking
BEGIN:VEVENT
UID:69ed1bc293324
SUMMARY:Morning sailing
DESCRIPTION:Sailing out Sunday morning from Enge\, for couple of hours.
 I
 t is going to be a warm day\, so what better way than starting it with a s
 ailing session (a refreshing swim is not excluded)
LOCATION:Polytechniker Ruderclub (PRC)\, 67\, Mythenquai\, Enge\, Kreis 2\,
  Zurich\, District Zurich\, Zurich\, 8002\, Switzerland
DTSTART:20250615T090000Z
DTEND:20250615T110000Z
DTSTAMP:20250614T085942Z
ORGANIZER;CN=ZISC Events:MAILTO:info@zisc.club
GEO:47.35781;8.53584
X-APPLE-STRUCTURED-LOCATION;VALUE=URI;X-ADDRESS=Polytechniker Ruderclub (PR
 C)\, 67\, Mythenquai\, Enge\, Kreis 2\, Zurich\, District Zurich\, Zurich\
 , 8002\, Switzerland;X-APPLE-RADIUS=72;X-TITLE=Hafen Enge / Samigo:47.3578
 1;8.53584
END:VEVENT
END:VCALENDAR