BEGIN:VCALENDAR
VERSION:2.0
PRODID:Events Booking
BEGIN:VEVENT
UID:69ed13bbe1428
SUMMARY:Zurichsee sailing at Tiefenbrunnen
DESCRIPTION:Meeting at Tiefenbrunnen at 17:40. Expected sun\, 28 C\, 17 kts
  wind. Please register only if you are very confident you will not cancel 
 to give others the opportunity to join\, and to keep me motivated to adver
 tise these opportunities:)
 Thanks\, looking forward&nbsp\;
LOCATION:Strandbadstraße\, Reichenau\, 78479 Baden-Württemberg\, Germany
DTSTART:20250620T174000Z
DTEND:20250620T200000Z
DTSTAMP:20250618T223043Z
ORGANIZER;CN=ZISC Events:MAILTO:info@zisc.club
GEO:47.703232;9.057437
X-APPLE-STRUCTURED-LOCATION;VALUE=URI;X-ADDRESS=Strandbadstraße\, Reichena
 u\, 78479 Baden-Württemberg\, Germany;X-APPLE-RADIUS=72;X-TITLE=Tiefenbru
 nnen:47.703232;9.057437
END:VEVENT
END:VCALENDAR