BEGIN:VCALENDAR
VERSION:2.0
PRODID:Events Booking
BEGIN:VEVENT
UID:69ed13bbe5637
SUMMARY:Sailing at Zurichsee from Wollishofen
DESCRIPTION:We meet at Wollishofen marina near the boat at 16:15.&nbsp\;
LOCATION:(47.3402066\, 8.5388178)
DTSTART:20250621T161500Z
DTEND:20250621T183000Z
DTSTAMP:20250620T233153Z
ORGANIZER;CN=ZISC Events:MAILTO:info@zisc.club
GEO:0;8.538818
X-APPLE-STRUCTURED-LOCATION;VALUE=URI;X-ADDRESS=(47.3402066\, 8.5388178);X-
 APPLE-RADIUS=72;X-TITLE=wollishofen:0;8.538818
END:VEVENT
END:VCALENDAR