BEGIN:VCALENDAR
VERSION:2.0
PRODID:Events Booking
BEGIN:VEVENT
UID:69ed204c8d481
SUMMARY:Sailing on Walensee from Unterterzen
DESCRIPTION:Sailing on Walensee. Normally a nice thermal breeze develops in
  the afternoon on sunny days. It will be fun.&nbsp\;
LOCATION:Gostenstrasse\, Unterterzen\, 8882 St. Gallen\, Switzerland
DTSTART:20250712T130000Z
DTEND:20250712T180000Z
DTSTAMP:20250710T151407Z
ORGANIZER;CN=ZISC Events:MAILTO:info@zisc.club
GEO:47.114209;9.253985
X-APPLE-STRUCTURED-LOCATION;VALUE=URI;X-ADDRESS=Gostenstrasse\, Unterterzen
 \, 8882 St. Gallen\, Switzerland;X-APPLE-RADIUS=72;X-TITLE=unterterzen:47.
 114209;9.253985
END:VEVENT
END:VCALENDAR