BEGIN:VCALENDAR
VERSION:2.0
PRODID:Events Booking
BEGIN:VEVENT
UID:69ed00b3e6d77
SUMMARY:Gennaker course in Brunnen\, in English
DESCRIPTION:Gennaker course in English in Brunnen. 26 and 27 of July. 12:00
 -17:00. Course offered by Sailbox on mOcean boat. Cost of the course 440 c
 hf.&nbsp\;
 The course enables using Gennaker with sailbox\, even if you 
 are not yet sailbox member.&nbsp\;
 Whether you are a sailbox member or n
 ot you can join.&nbsp\;
 Register directly through sailbox. If you can't\
 , please register here and get in touch with me
LOCATION:Föhnhafen\, Ingenbohl\, 6440 Schwyz\, Switzerland
DTSTART:20250726T120000Z
DTEND:20250727T170000Z
DTSTAMP:20250714T195303Z
ORGANIZER;CN=ZISC Events:MAILTO:info@zisc.club
GEO:0;8.599819
X-APPLE-STRUCTURED-LOCATION;VALUE=URI;X-ADDRESS=Föhnhafen\, Ingenbohl\, 64
 40 Schwyz\, Switzerland;X-APPLE-RADIUS=72;X-TITLE=Brunnen Föhnhafen:0;8.5
 99819
END:VEVENT
END:VCALENDAR