BEGIN:VCALENDAR
VERSION:2.0
PRODID:Events Booking
BEGIN:VEVENT
UID:69ed13fcde8c4
SUMMARY:ZLC - Distanzfahrt Zürich-Horgen-Zürich (Act 6) 
DESCRIPTION:Act 6 of the ZLC series. See details for more info.
LOCATION:Mythenquai\, Zurich\, 8002 Zurich\, Switzerland
DTSTART:20250913T100000Z
DTEND:20250913T180000Z
DTSTAMP:20240807T090204Z
ORGANIZER;CN=ZISC Events:MAILTO:info@zisc.club
GEO:47.361232;8.535692
X-APPLE-STRUCTURED-LOCATION;VALUE=URI;X-ADDRESS=Mythenquai\, Zurich\, 8002 
 Zurich\, Switzerland;X-APPLE-RADIUS=72;X-TITLE=Hafen Enge:47.361232;8.5356
 92
END:VEVENT
END:VCALENDAR