BEGIN:VCALENDAR
VERSION:2.0
PRODID:Events Booking
BEGIN:VEVENT
UID:69ed246b8e2dd
SUMMARY:ZISC Christmas Drinks Evening
DESCRIPTION:Dear All\,&nbsp\;
 Let's meet for traditional ZISC's Drinks at
  the charming Christmas Market in the heart of Zürich Old town!
 WHERE:&
 nbsp\;Münsterhof Christmas Market&nbsp\;(largest tent)&nbsp\;
 WHEN: Thu
 rsday 18 December at 19.00h
 &nbsp\;https://www.zuerich.com/en/visit/shop
 ping/munsterhof-christmas-market
 &nbsp\;
 &nbsp\;
LOCATION:Munsterhof Zurich 
DTSTART:20251218T190000Z
DTEND:20251218T210000Z
DTSTAMP:20251210T120933Z
ORGANIZER;CN=ZISC Events:MAILTO:info@zisc.club
GEO:47.370121;8.540871
X-APPLE-STRUCTURED-LOCATION;VALUE=URI;X-ADDRESS=Munsterhof Zurich ;X-APPLE-
 RADIUS=72;X-TITLE=Munsterhof :47.370121;8.540871
END:VEVENT
END:VCALENDAR