BEGIN:VCALENDAR
VERSION:2.0
PRODID:Events Booking
BEGIN:VEVENT
UID:69ed13bc25bca
SUMMARY:Distanzfahrt für Daheimgebliebene
DESCRIPTION:Act 4.&nbsp\;Zürichsee Langstrecken Cup event. Details to foll
 ow. Join waitlist to register interest. Dates Provisional.
LOCATION:Switzerland
DTSTART:20260711T090000Z
DTEND:20260711T160000Z
DTSTAMP:20251226T220513Z
ORGANIZER;CN=ZISC Events:MAILTO:info@zisc.club
GEO:47.279096;8.597868
X-APPLE-STRUCTURED-LOCATION;VALUE=URI;X-ADDRESS=Switzerland;X-APPLE-RADIUS=
 72;X-TITLE=Lake Zurich:47.279096;8.597868
END:VEVENT
END:VCALENDAR