BEGIN:VCALENDAR
VERSION:2.0
PRODID:Events Booking
BEGIN:VEVENT
UID:69ed13fda0f59
SUMMARY:Zürich-Horgen-Zürich
DESCRIPTION:ACT 5. Zürichsee Langstrecken Cup event. Details to follow.
 
 Dates Provisional.
 Join waitlist to register interest.
LOCATION:Switzerland
DTSTART:20260912T090000Z
DTEND:20260912T160000Z
DTSTAMP:20251226T221723Z
ORGANIZER;CN=ZISC Events:MAILTO:info@zisc.club
GEO:47.279096;8.597868
X-APPLE-STRUCTURED-LOCATION;VALUE=URI;X-ADDRESS=Switzerland;X-APPLE-RADIUS=
 72;X-TITLE=Lake Zurich:47.279096;8.597868
END:VEVENT
END:VCALENDAR