BEGIN:VCALENDAR
VERSION:2.0
PRODID:Events Booking
BEGIN:VEVENT
UID:69ed26db1aae4
SUMMARY:Crossing the English Channel
DESCRIPTION:Crossing the English Channel on a Pogo44!
LOCATION:Town Quay\, Cowes\, PO31 7AS England\, United Kingdom
DTSTART:20260712T180000Z
DTEND:20260716T090000Z
DTSTAMP:20251227T193922Z
ORGANIZER;CN=ZISC Events:MAILTO:info@zisc.club
GEO:50.761762;-1.296454
X-APPLE-STRUCTURED-LOCATION;VALUE=URI;X-ADDRESS=Town Quay\, Cowes\, PO31 7A
 S England\, United Kingdom;X-APPLE-RADIUS=72;X-TITLE=Cowes Yacht Haven:50.
 761762;-1.296454
END:VEVENT
END:VCALENDAR