BEGIN:VCALENDAR
VERSION:2.0
PRODID:Events Booking
BEGIN:VEVENT
UID:69ed265d8cb39
SUMMARY:ZISC Summer BBQ
DESCRIPTION:The ZISC Annual BBQ
LOCATION:Mythenquai\, Zurich\, 8002 Zurich\, Switzerland
DTSTART:20260808T180000Z
DTEND:20260808T230000Z
DTSTAMP:20251228T212429Z
ORGANIZER;CN=ZISC Events:MAILTO:info@zisc.club
GEO:47.355824;8.536142
X-APPLE-STRUCTURED-LOCATION;VALUE=URI;X-ADDRESS=Mythenquai\, Zurich\, 8002 
 Zurich\, Switzerland;X-APPLE-RADIUS=72;X-TITLE=Zurich:47.355824;8.536142
END:VEVENT
END:VCALENDAR