BEGIN:VCALENDAR
VERSION:2.0
PRODID:Events Booking
BEGIN:VEVENT
UID:69ecda3abf436
SUMMARY:Training for the D-schein practical exam
DESCRIPTION:This informal training is for you if you have little to no expe
 rience and you want to work for the D-Schein exam to be a skipper on the S
 wiss lakes\; or have some experience\, but you would like to gain more con
 fidence.   Register in the waiting list to show interest. Preliminary date
 s in the description\, to be agreed and fixed after the crew is formed.
LOCATION:Mythenquai 21\, 8002 Zürich
DTSTART:20260403T120000Z
DTEND:20260503T170000Z
DTSTAMP:20260117T113949Z
ORGANIZER;CN=ZISC Events:MAILTO:info@zisc.club
GEO:0;8.536908
X-APPLE-STRUCTURED-LOCATION;VALUE=URI;X-ADDRESS=Mythenquai 21\, 8002 Züric
 h;X-APPLE-RADIUS=72;X-TITLE=zurich enge:0;8.536908
END:VEVENT
END:VCALENDAR