BEGIN:VCALENDAR
VERSION:2.0
PRODID:Events Booking
BEGIN:VEVENT
UID:69ecdb03b93c6
SUMMARY:RYA Day Skipper Course
DESCRIPTION:RYA Day Skipper Course.&nbsp\;5 days\, professional training\, 
 obtain your skipper certificate.
LOCATION:Satchel Lane\, Hamble\, SO31 4QD England\, United Kingdom
DTSTART:20260420T083000Z
DTEND:20260424T160000Z
DTSTAMP:20260118T184908Z
ORGANIZER;CN=ZISC Events:MAILTO:info@zisc.club
GEO:50.861338;-1.313641
X-APPLE-STRUCTURED-LOCATION;VALUE=URI;X-ADDRESS=Satchel Lane\, Hamble\, SO3
 1 4QD England\, United Kingdom;X-APPLE-RADIUS=72;X-TITLE=Port Hamble Marin
 a:50.861338;-1.313641
END:VEVENT
END:VCALENDAR