BEGIN:VCALENDAR
VERSION:2.0
PRODID:Events Booking
BEGIN:VEVENT
UID:69ed135392df8
SUMMARY:Venice Carnival Race 
DESCRIPTION:The Venice Carnival Race is the invitational regatta of the Com
 pagnia Della vela in Venice. The program includes the regattas on Saturday
  and Sunday... possibly a boat tryout on Friday. We ll race on SB20\, and 
 the evening programs include a masked party in the club house.&nbsp\;The r
 egistration of the team is 300 eur and the double rooms are around 140 per
  night. Racing team will be 4 of 5 and will be selected by the sergente di
  vascello Dario... but there a always room for more party people to join &
 nbsp\;the events. Just pick up the phone\, you have my number!&nbsp\;
LOCATION:Isola di San Giorgio Maggiore\, Venice\, 30124 Veneto\, Italy
DTSTART:20260213T150000Z
DTEND:20260215T200000Z
DTSTAMP:20260121T213731Z
ORGANIZER;CN=ZISC Events:MAILTO:info@zisc.club
GEO:45.429027;12.34495
X-APPLE-STRUCTURED-LOCATION;VALUE=URI;X-ADDRESS=Isola di San Giorgio Maggio
 re\, Venice\, 30124 Veneto\, Italy;X-APPLE-RADIUS=72;X-TITLE=Venezia :45.4
 29027;12.34495
END:VEVENT
END:VCALENDAR