BEGIN:VCALENDAR
VERSION:2.0
PRODID:Events Booking
BEGIN:VEVENT
UID:69ecfce857d8a
SUMMARY:2026 Season Kick-Off: ZISC on Lake Zurich
DESCRIPTION:Official ZISC Season Kick-Off on Lake Zurich (expect rain or wi
 nd\, challenges\, drinks and laughters)
LOCATION:47.340088\, 8.538859
DTSTART:20260328T120000Z
DTEND:20260328T170000Z
DTSTAMP:20260205T100147Z
ORGANIZER;CN=ZISC Events:MAILTO:info@zisc.club
GEO:47.340088;8.538859
X-APPLE-STRUCTURED-LOCATION;VALUE=URI;X-ADDRESS=47.340088\, 8.538859;X-APPL
 E-RADIUS=72;X-TITLE=Hafen Wollishofen:47.340088;8.538859
END:VEVENT
END:VCALENDAR