BEGIN:VCALENDAR
VERSION:2.0
PRODID:Events Booking
BEGIN:VEVENT
UID:69ece71088612
SUMMARY:Skills and Drills
DESCRIPTION:Skills and drills practice for those wanting to build some conf
 idence and gain experience.
DTSTART:20220906T180000Z
DTEND:20220906T203000Z
DTSTAMP:20220817T175434Z
ORGANIZER;CN=ZISC Events:MAILTO:info@zisc.club
END:VEVENT
END:VCALENDAR