BEGIN:VCALENDAR
VERSION:2.0
PRODID:Events Booking
BEGIN:VEVENT
UID:69ece6e89cba6
SUMMARY:Weekly Social at Lago
DESCRIPTION:Weekly Social Event at Lago
  
LOCATION:Utoquai 6\, 8008 Zürich
DTSTART:20220825T180000Z
DTEND:20220825T200000Z
DTSTAMP:20220817T175434Z
ORGANIZER;CN=ZISC Events:MAILTO:info@zisc.club
GEO:47.363772;8.545425
X-APPLE-STRUCTURED-LOCATION;VALUE=URI;X-ADDRESS=Utoquai 6\, 8008 Zürich;X-
 APPLE-RADIUS=72;X-TITLE=Lago Lounge:47.363772;8.545425
END:VEVENT
END:VCALENDAR