BEGIN:VCALENDAR
VERSION:2.0
PRODID:Events Booking
BEGIN:VEVENT
UID:69eced043b537
SUMMARY:Sardinia Rally
DESCRIPTION:ZISC Annual Rally - Sardinia 2022.
DTSTART:20220924T140000Z
DTEND:20221001T100000Z
DTSTAMP:20220817T175434Z
ORGANIZER;CN=ZISC Events:MAILTO:info@zisc.club
END:VEVENT
END:VCALENDAR