BEGIN:VCALENDAR
VERSION:2.0
PRODID:Events Booking
BEGIN:VEVENT
UID:69ece73cc57b2
SUMMARY:Regatta on Zürisee
DESCRIPTION:Zürich-Horgen-Zürich regatta\, part of the ZLC series. See 'd
 etails' to register interest.
LOCATION:Switzerland
DTSTART:20220917T110000Z
DTEND:20220917T170000Z
DTSTAMP:20220820T122116Z
ORGANIZER;CN=ZISC Events:MAILTO:info@zisc.club
GEO:47.279096;8.597868
X-APPLE-STRUCTURED-LOCATION;VALUE=URI;X-ADDRESS=Switzerland;X-APPLE-RADIUS=
 72;X-TITLE=Lake Zurich:47.279096;8.597868
END:VEVENT
END:VCALENDAR