BEGIN:VCALENDAR
VERSION:2.0
PRODID:Events Booking
BEGIN:VEVENT
UID:69ecee7857ce4
SUMMARY:Sailing on a Trimaran
DESCRIPTION:Sailing a Corsair Dash750 on Lac Neuchâtel.
DTSTART:20220912T110000Z
DTEND:20220912T140000Z
DTSTAMP:20220820T141242Z
ORGANIZER;CN=ZISC Events:MAILTO:info@zisc.club
END:VEVENT
END:VCALENDAR