BEGIN:VCALENDAR
VERSION:2.0
PRODID:Events Booking
BEGIN:VEVENT
UID:69eceec07d721
SUMMARY:Sunset Sail on Zürisee 
DESCRIPTION:Sunset Sail from Enge on J80
  
DTSTART:20220909T180000Z
DTEND:20220909T210000Z
DTSTAMP:20220821T193601Z
ORGANIZER;CN=ZISC Events:MAILTO:info@zisc.club
END:VEVENT
END:VCALENDAR