BEGIN:VCALENDAR
VERSION:2.0
PRODID:Events Booking
BEGIN:VEVENT
UID:69ece70d5aaaf
SUMMARY:Weekly Social 
DESCRIPTION:Weekly Social Event - at Collana this week
  
DTSTART:20220908T180000Z
DTEND:20220908T200000Z
DTSTAMP:20220817T175434Z
ORGANIZER;CN=ZISC Events:MAILTO:info@zisc.club
END:VEVENT
END:VCALENDAR