BEGIN:VCALENDAR
VERSION:2.0
PRODID:Events Booking
BEGIN:VEVENT
UID:69ece70a8595f
SUMMARY:Sunset sailing on Zürisee
DESCRIPTION:Sunset sailing from Enge - Sunbeam 22.1
  
DTSTART:20220830T180000Z
DTEND:20220830T210000Z
DTSTAMP:20220821T193601Z
ORGANIZER;CN=ZISC Events:MAILTO:info@zisc.club
END:VEVENT
END:VCALENDAR