BEGIN:VCALENDAR
VERSION:2.0
PRODID:Events Booking
BEGIN:VEVENT
UID:69ecfa7d7cf63
SUMMARY:Sunday afternoon on Urnersee
DESCRIPTION:Sunday afternoon from Sisikon on J70
  
DTSTART:20221023T120000Z
DTEND:20221023T160000Z
DTSTAMP:20220821T193601Z
ORGANIZER;CN=ZISC Events:MAILTO:info@zisc.club
END:VEVENT
END:VCALENDAR