BEGIN:VCALENDAR
VERSION:2.0
PRODID:Events Booking
BEGIN:VEVENT
UID:69ecea0505b85
SUMMARY:Sunset Sail
DESCRIPTION:Sunset Sail from Wollishofen on mOcean
LOCATION:Zurich\, 8038 Zurich\, Switzerland
DTSTART:20220903T180000Z
DTEND:20220903T203000Z
DTSTAMP:20220903T093714Z
ORGANIZER;CN=ZISC Events:MAILTO:info@zisc.club
GEO:47.340028;8.53864
X-APPLE-STRUCTURED-LOCATION;VALUE=URI;X-ADDRESS=Zurich\, 8038 Zurich\, Swit
 zerland;X-APPLE-RADIUS=72;X-TITLE=Wollishofen Marina:47.340028;8.53864
END:VEVENT
END:VCALENDAR