BEGIN:VCALENDAR
VERSION:2.0
PRODID:Events Booking
BEGIN:VEVENT
UID:69ece9350531e
SUMMARY:Sunset Sail on Zürisee
DESCRIPTION:Automnly October Sunset Sail on Zürisee
LOCATION:Zurich\, 8038 Zurich\, Switzerland
DTSTART:20221006T170000Z
DTEND:20221006T193000Z
DTSTAMP:20221002T152855Z
ORGANIZER;CN=ZISC Events:MAILTO:info@zisc.club
GEO:47.340028;8.53864
X-APPLE-STRUCTURED-LOCATION;VALUE=URI;X-ADDRESS=Zurich\, 8038 Zurich\, Swit
 zerland;X-APPLE-RADIUS=72;X-TITLE=Wollishofen Marina:47.340028;8.53864
END:VEVENT
END:VCALENDAR