BEGIN:VCALENDAR
VERSION:2.0
PRODID:Events Booking
BEGIN:VEVENT
UID:69ece65a3945f
SUMMARY:Racing Training
DESCRIPTION:Get introduced into racing rules and techniques.
LOCATION:Hafen Beiz\, Hafen Enge\, Zürich
DTSTART:20221015T090000Z
DTEND:20221015T130000Z
DTSTAMP:20221014T114248Z
ORGANIZER;CN=ZISC Events:MAILTO:info@zisc.club
GEO:47.361215;8.53569
X-APPLE-STRUCTURED-LOCATION;VALUE=URI;X-ADDRESS=Hafen Beiz\, Hafen Enge\, Z
 ürich;X-APPLE-RADIUS=72;X-TITLE=Hafen Beiz\, Enge:47.361215;8.53569
END:VEVENT
END:VCALENDAR